BEGIN:VCALENDAR
VERSION:2.0
PRODID:-//wp-events-plugin.com//7.2.3.1//EN
BEGIN:VEVENT
UID:196@gbgcob.org
DTSTART;TZID=America/New_York:20240914T110000
DTEND;TZID=America/New_York:20240914T160000
DTSTAMP:20240812T005643Z
URL:https://gbgcob.org/events/3rd-annual-community-picnic/
SUMMARY:3rd Annual Community Picnic
DESCRIPTION:Join us for our 3rd Annual Community Picnic on September 14 fro
 m 11am – 4pm at the church located at 554 Stanton Street\, Greensburg. T
 his event promises a day of fun\, food and festivities for families and in
 dividuals of all ages. There will be food and games and the Southwest Gree
 nsburg Police will have a police car there to check out. The SWG Fire Dept
 . will have a firetruck to explore\, and Mutual Aid Ambulance Service will
  be present as well.\n\nThe pastor will be back in the dunk tank and this 
 year you have a chance to dunk a Greensburg meter maid and a Sunday school
  teacher.\n\nAll proceeds benefit the Southwest Greensburg Police Departme
 nt\, SWG Fire Department and Mutual Aid Ambulance Service.\n\n&nbsp\;\n\n&
 nbsp\;\n\n&nbsp\;\n\n&nbsp\;\n\n&nbsp\;\n\n&nbsp\;
ATTACH;FMTTYPE=image/jpeg:https://gbgcob.org/wp-content/uploads/2024/08/Co
 mmunity-Picnic-2024-Web.jpg
CATEGORIES:Annual Event
END:VEVENT
BEGIN:VTIMEZONE
TZID:America/New_York
X-LIC-LOCATION:America/New_York
BEGIN:DAYLIGHT
DTSTART:20240310T030000
TZOFFSETFROM:-0500
TZOFFSETTO:-0400
TZNAME:EDT
END:DAYLIGHT
END:VTIMEZONE
END:VCALENDAR