BEGIN:VCALENDAR
VERSION:2.0
PRODID:-//wp-events-plugin.com//7.2.3.1//EN
BEGIN:VEVENT
UID:255@gbgcob.org
DTSTART;TZID=America/New_York:20250920T110000
DTEND;TZID=America/New_York:20250920T160000
DTSTAMP:20250515T000638Z
URL:https://gbgcob.org/events/4th-annual-community-picnic/
SUMMARY:4th Annual Community Picnic
DESCRIPTION:Join us for Food\, Fun\, Games and more. All are welcome.  All
  proceeds go to Southwest Greensburg Police and Fire Department and Mutual
  Aid Ambulance Service.
ATTACH;FMTTYPE=image/jpeg:https://gbgcob.org/wp-content/uploads/2025/05/Pi
 cnic-Image-jpg.jpg
CATEGORIES:Annual Event
END:VEVENT
BEGIN:VTIMEZONE
TZID:America/New_York
X-LIC-LOCATION:America/New_York
BEGIN:DAYLIGHT
DTSTART:20250309T030000
TZOFFSETFROM:-0500
TZOFFSETTO:-0400
TZNAME:EDT
END:DAYLIGHT
END:VTIMEZONE
END:VCALENDAR