BEGIN:VCALENDAR
VERSION:2.0
PRODID:-//wp-events-plugin.com//7.2.3.1//EN
BEGIN:VEVENT
UID:31@gbgcob.org
DTSTART;TZID=America/New_York:20221113T103000
DTEND;TZID=America/New_York:20221113T113000
DTSTAMP:20220902T164908Z
URL:https://gbgcob.org/events/appreciation-sunday/
SUMMARY:Appreciation Sunday
DESCRIPTION:Recognizing First Responder's and Veterans and all who serve
ATTACH;FMTTYPE=image/jpeg:https://gbgcob.org/wp-content/uploads/2022/09/Ap
 preciation-Sunday.jpg
CATEGORIES:Fund raiser
END:VEVENT
BEGIN:VTIMEZONE
TZID:America/New_York
X-LIC-LOCATION:America/New_York
BEGIN:STANDARD
DTSTART:20221106T010000
TZOFFSETFROM:-0400
TZOFFSETTO:-0500
TZNAME:EST
END:STANDARD
END:VTIMEZONE
END:VCALENDAR