BEGIN:VCALENDAR
VERSION:2.0
PRODID:-//wp-events-plugin.com//7.2.3.1//EN
BEGIN:VEVENT
UID:274@gbgcob.org
DTSTART;TZID=America/New_York:20251213T080000
DTEND;TZID=America/New_York:20251213T110000
DTSTAMP:20251125T170838Z
URL:https://gbgcob.org/events/breakfast-with-santa/
SUMMARY:Breakfast with Santa
DESCRIPTION:Breakfast with Santa\n\nDecember 13\, 2024 8am - 11am\n\nRegist
 er at 724-834-2130 - Leave a message with the number of children and adult
 s attanding.
ATTACH;FMTTYPE=image/jpeg:https://gbgcob.org/wp-content/uploads/2025/11/Ch
 ristmas-With-Santa.jpg
CATEGORIES:Annual Event
END:VEVENT
BEGIN:VTIMEZONE
TZID:America/New_York
X-LIC-LOCATION:America/New_York
BEGIN:STANDARD
DTSTART:20251102T010000
TZOFFSETFROM:-0400
TZOFFSETTO:-0500
TZNAME:EST
END:STANDARD
END:VTIMEZONE
END:VCALENDAR