BEGIN:VCALENDAR
VERSION:2.0
PRODID:-//wp-events-plugin.com//7.2.3.1//EN
BEGIN:VEVENT
UID:64@gbgcob.org
DTSTART;TZID=America/New_York:20230513T090000
DTEND;TZID=America/New_York:20230513T120000
DTSTAMP:20230425T144250Z
URL:https://gbgcob.org/events/car-wash-fundraiser/
SUMMARY:Car Wash Fundraiser
DESCRIPTION:May 13\, 2023 from 9am - 12pm\n\n554 Stanton Street Greensburg\
 n\nDonations go to helping local families with food and basic needs
ATTACH;FMTTYPE=image/jpeg:https://gbgcob.org/wp-content/uploads/2023/04/Ca
 rWash5-13-23.jpg
CATEGORIES:Fund raiser
END:VEVENT
BEGIN:VTIMEZONE
TZID:America/New_York
X-LIC-LOCATION:America/New_York
BEGIN:DAYLIGHT
DTSTART:20230312T030000
TZOFFSETFROM:-0500
TZOFFSETTO:-0400
TZNAME:EDT
END:DAYLIGHT
END:VTIMEZONE
END:VCALENDAR