BEGIN:VCALENDAR
VERSION:2.0
PRODID:-//wp-events-plugin.com//7.2.3.1//EN
BEGIN:VEVENT
UID:270@gbgcob.org
DTSTART;TZID=America/New_York:20250824T103000
DTEND;TZID=America/New_York:20250824T103000
DTSTAMP:20250714T172633Z
URL:https://gbgcob.org/events/church-picnic/
SUMMARY:Church Picnic
DESCRIPTION:August 24\, 2025 on the lawn after service
ATTACH;FMTTYPE=image/jpeg:https://gbgcob.org/wp-content/uploads/2025/07/Ch
 urch-Picnic.jpg
CATEGORIES:Annual Event
END:VEVENT
BEGIN:VTIMEZONE
TZID:America/New_York
X-LIC-LOCATION:America/New_York
BEGIN:DAYLIGHT
DTSTART:20250309T030000
TZOFFSETFROM:-0500
TZOFFSETTO:-0400
TZNAME:EDT
END:DAYLIGHT
END:VTIMEZONE
END:VCALENDAR