BEGIN:VCALENDAR
VERSION:2.0
PRODID:-//wp-events-plugin.com//7.2.3.1//EN
BEGIN:VEVENT
UID:172@gbgcob.org
DTSTART;TZID=America/New_York:20240409T150000
DTEND;TZID=America/New_York:20240409T220000
DTSTAMP:20240311T173106Z
URL:https://gbgcob.org/events/dine-to-donate-texas-roadhouse/
SUMMARY:Dine To Donate @ Texas Roadhouse
DESCRIPTION:Come on out to Texas Roadhouse on April 9th from 3pm - 10pm and
  enjoy a delicious meal while supporting The Disciples' Hands Ministry.  
  Texas Roadhouse will donate 10% of your total food purchases to The  Gr
 eensburg Church of the Brethren's Disciples' Hands Ministry. Just download
  and print the flyer below.  The Flyer must be presented at time of purch
 ase.   D2D Flyer April 9\n\nWe thank you all in advance.
CATEGORIES:Fund raiser
END:VEVENT
BEGIN:VTIMEZONE
TZID:America/New_York
X-LIC-LOCATION:America/New_York
BEGIN:DAYLIGHT
DTSTART:20240310T030000
TZOFFSETFROM:-0500
TZOFFSETTO:-0400
TZNAME:EDT
END:DAYLIGHT
END:VTIMEZONE
END:VCALENDAR