BEGIN:VCALENDAR
VERSION:2.0
PRODID:-//wp-events-plugin.com//7.2.3.1//EN
BEGIN:VEVENT
UID:201@gbgcob.org
DTSTART;TZID=America/New_York:20240928T190000
DTEND;TZID=America/New_York:20240928T210000
DTSTAMP:20240912T152808Z
URL:https://gbgcob.org/events/family-movie-night/
SUMMARY:Family Movie Night
DESCRIPTION:Join us for "Family Movie Night" on Saturday\, September 28 at 
 7 PM. We'll be watching Facing the Giants.\n\nFree popcorn\, snacks and dr
 inks!
CATEGORIES:Outreach Event
LOCATION:Greensburg Church of the Brethren\, 554 Stanton St\, Greensburg\, 
 PA\, 15601\, United States
X-APPLE-STRUCTURED-LOCATION;VALUE=URI;X-ADDRESS=554 Stanton St\, Greensburg
 \, PA\, 15601\, United States;X-APPLE-RADIUS=100;X-TITLE=Greensburg Church
  of the Brethren:geo:0,0
END:VEVENT
BEGIN:VTIMEZONE
TZID:America/New_York
X-LIC-LOCATION:America/New_York
BEGIN:DAYLIGHT
DTSTART:20240310T030000
TZOFFSETFROM:-0500
TZOFFSETTO:-0400
TZNAME:EDT
END:DAYLIGHT
END:VTIMEZONE
END:VCALENDAR