BEGIN:VCALENDAR
VERSION:2.0
PRODID:-//wp-events-plugin.com//7.2.3.1//EN
BEGIN:VEVENT
UID:32@gbgcob.org
DTSTART;TZID=America/New_York:20221210T080000
DTEND;TZID=America/New_York:20221210T150000
DTSTAMP:20221205T140303Z
URL:https://gbgcob.org/events/food-box-hand-out/
SUMMARY:FOOD BOX HAND OUT
DESCRIPTION:FOOD BOX HAND OUT\n\nBeginning at 8:00 am on Thursday\, Decembe
 r 10 will be a Food Box Hand Out.  Boxes will be handed out until the sup
 ply runs out.\n\nDrive up and Pick up at the parking lot side of the churc
 h. 554 Stanton Street\, Greensburg.\n\nSupply is limited to 250 boxes.  W
 e run out of boxes quickly\, so come early!
ATTACH;FMTTYPE=image/jpeg:https://gbgcob.org/wp-content/uploads/2022/12/th
 umbnail.jpeg
CATEGORIES:Series
END:VEVENT
BEGIN:VTIMEZONE
TZID:America/New_York
X-LIC-LOCATION:America/New_York
BEGIN:STANDARD
DTSTART:20221106T010000
TZOFFSETFROM:-0400
TZOFFSETTO:-0500
TZNAME:EST
END:STANDARD
END:VTIMEZONE
END:VCALENDAR