BEGIN:VCALENDAR
VERSION:2.0
PRODID:-//wp-events-plugin.com//7.2.3.1//EN
BEGIN:VEVENT
UID:47@gbgcob.org
DTSTART;TZID=America/New_York:20230121T080000
DTEND;TZID=America/New_York:20230121T110000
DTSTAMP:20230103T184652Z
URL:https://gbgcob.org/events/food-box-handout/
SUMMARY:FOOD BOX HANDOUT
DESCRIPTION:Food Box Handout to anyone who needs it.  Drive up and pick up
  a box.  We don't ask any questions.  It's completely anonymous.\n\nFirs
 t Come\, First Served.  Come early.  Supplies are limited.
ATTACH;FMTTYPE=image/jpeg:https://gbgcob.org/wp-content/uploads/2023/01/Fo
 od-BoxFlyer-1-21-23.jpg
CATEGORIES:Outreach Event
END:VEVENT
BEGIN:VTIMEZONE
TZID:America/New_York
X-LIC-LOCATION:America/New_York
BEGIN:STANDARD
DTSTART:20221106T010000
TZOFFSETFROM:-0400
TZOFFSETTO:-0500
TZNAME:EST
END:STANDARD
END:VTIMEZONE
END:VCALENDAR