BEGIN:VCALENDAR
VERSION:2.0
PRODID:-//wp-events-plugin.com//7.2.3.1//EN
BEGIN:VEVENT
UID:254@gbgcob.org
DTSTART;TZID=America/New_York:20250503T180000
DTEND;TZID=America/New_York:20250503T200000
DTSTAMP:20250410T165122Z
URL:https://gbgcob.org/events/irwin-male-chorus-concert/
SUMMARY:Irwin Male Chorus Concert
DESCRIPTION:We are excited to have the Irwin Male Chorus here at our church
  on May 3 at 6PM.  We invite all members and non members\, family and fri
 ends\,  to join us for a musical concert of sacred and patriotic music. R
 efreshments and fellowship will follow the concert.
ATTACH;FMTTYPE=image/jpeg:https://gbgcob.org/wp-content/uploads/2025/04/Ir
 win-Male-Chorus-Image.jpg
CATEGORIES:Fund raiser
END:VEVENT
BEGIN:VTIMEZONE
TZID:America/New_York
X-LIC-LOCATION:America/New_York
BEGIN:DAYLIGHT
DTSTART:20250309T030000
TZOFFSETFROM:-0500
TZOFFSETTO:-0400
TZNAME:EDT
END:DAYLIGHT
END:VTIMEZONE
END:VCALENDAR