BEGIN:VCALENDAR
VERSION:2.0
PRODID:-//wp-events-plugin.com//7.2.3.1//EN
BEGIN:VEVENT
UID:42@gbgcob.org
DTSTART;TZID=America/New_York:20230213T170000
DTEND;TZID=America/New_York:20230213T190000
DTSTAMP:20221205T162016Z
URL:https://gbgcob.org/events/joyful-celebration-11/
SUMMARY:JOYFUL CELEBRATION
DESCRIPTION:Every Monday night from 5 -7 PM Greensburg Church of the Brethr
 en welcomes all groups and individuals with developmental disabilities to 
 a "Joyful Celebration".\n\nCome join us for a free night of fund and fello
 wship.  Dinner is included.  All participants must be accompanied by a f
 amily member or caregiver.  Donations are accepted.
ATTACH;FMTTYPE=image/jpeg:https://gbgcob.org/wp-content/uploads/2022/07/Sc
 reen-Shot-2022-07-10-at-10.46.32-AM.png
CATEGORIES:Series
END:VEVENT
BEGIN:VTIMEZONE
TZID:America/New_York
X-LIC-LOCATION:America/New_York
BEGIN:STANDARD
DTSTART:20221106T010000
TZOFFSETFROM:-0400
TZOFFSETTO:-0500
TZNAME:EST
END:STANDARD
END:VTIMEZONE
END:VCALENDAR