BEGIN:VCALENDAR
VERSION:2.0
PRODID:-//wp-events-plugin.com//7.2.3.1//EN
BEGIN:VEVENT
UID:238@gbgcob.org
DTSTART;TZID=America/New_York:20251006T170000
DTEND;TZID=America/New_York:20251006T190000
DTSTAMP:20250119T170306Z
URL:https://gbgcob.org/events/joyful-celebration-138/
SUMMARY:Joyful Celebration
DESCRIPTION:Every Monday night from 5 - 7PM\n\nGreensburg Church of the Bre
 thren welcomes all groups and individuals with disabilities to a "Joyful C
 elebration".\n\nCome join us for a free night of fun and fellowship. Dinne
 r is included. All participants must be accompanied by a family member or 
 caregiver. Donations are accepted.
ATTACH;FMTTYPE=image/jpeg:https://gbgcob.org/wp-content/uploads/2022/07/Sc
 reen-Shot-2022-07-10-at-10.46.32-AM.png
CATEGORIES:Outreach Event
END:VEVENT
BEGIN:VTIMEZONE
TZID:America/New_York
X-LIC-LOCATION:America/New_York
BEGIN:DAYLIGHT
DTSTART:20250309T030000
TZOFFSETFROM:-0500
TZOFFSETTO:-0400
TZNAME:EDT
END:DAYLIGHT
END:VTIMEZONE
END:VCALENDAR