BEGIN:VCALENDAR
VERSION:2.0
PRODID:-//wp-events-plugin.com//7.2.3.1//EN
BEGIN:VEVENT
UID:302@gbgcob.org
DTSTART;TZID=America/New_York:20260601T170000
DTEND;TZID=America/New_York:20260601T190000
DTSTAMP:20260105T232853Z
URL:https://gbgcob.org/events/joyful-celebration-172/
SUMMARY:Joyful Celebration
DESCRIPTION:Please join us for a "Joyful Celebration" every Monday from 5 p
 m - 7 pm in the fellowship hall at the Greensburg Church of the Brethren.
   All people with a developmental disability are welcome to attend. You w
 ill enjoy a dinner\, Bible lesson\, arts and crafts\, music and more.  Al
 l FREE of charge.  We ask that a parent or caregiver stay with your child
 /client.
ATTACH;FMTTYPE=image/jpeg:https://gbgcob.org/wp-content/uploads/2026/01/jo
 yful-celelbration-Image.jpg
CATEGORIES:Outreach Event
LOCATION:Greensburg Church of the Brethren\, 554 Stanton St\, Greensburg\, 
 PA\, 15601\, United States
X-APPLE-STRUCTURED-LOCATION;VALUE=URI;X-ADDRESS=554 Stanton St\, Greensburg
 \, PA\, 15601\, United States;X-APPLE-RADIUS=100;X-TITLE=Greensburg Church
  of the Brethren:geo:0,0
END:VEVENT
BEGIN:VTIMEZONE
TZID:America/New_York
X-LIC-LOCATION:America/New_York
BEGIN:DAYLIGHT
DTSTART:20260308T030000
TZOFFSETFROM:-0500
TZOFFSETTO:-0400
TZNAME:EDT
END:DAYLIGHT
END:VTIMEZONE
END:VCALENDAR