BEGIN:VCALENDAR
VERSION:2.0
PRODID:-//wp-events-plugin.com//7.2.3.1//EN
BEGIN:VEVENT
UID:27@gbgcob.org
DTSTART;TZID=America/New_York:20221031T170000
DTEND;TZID=America/New_York:20221031T190000
DTSTAMP:20220804T143007Z
URL:https://gbgcob.org/events/joyful-celebration-2022-10-31/
SUMMARY:Joyful Celebration!
DESCRIPTION:A fun and inspiring evening for people with developmental disab
 ilities.  Enjoy home cooked dinner\, a Bible Lesson\, Music and Arts &amp
 \; Crafts.
ATTACH;FMTTYPE=image/jpeg:https://gbgcob.org/wp-content/uploads/2022/07/Sc
 reen-Shot-2022-07-10-at-10.46.32-AM.png
CATEGORIES:Series
END:VEVENT
BEGIN:VTIMEZONE
TZID:America/New_York
X-LIC-LOCATION:America/New_York
BEGIN:DAYLIGHT
DTSTART:20220313T030000
TZOFFSETFROM:-0500
TZOFFSETTO:-0400
TZNAME:EDT
END:DAYLIGHT
END:VTIMEZONE
END:VCALENDAR