BEGIN:VCALENDAR
VERSION:2.0
PRODID:-//wp-events-plugin.com//7.2.3.1//EN
BEGIN:VEVENT
UID:92@gbgcob.org
DTSTART;TZID=America/New_York:20230911T170000
DTEND;TZID=America/New_York:20230911T190000
DTSTAMP:20230911T145254Z
URL:https://gbgcob.org/events/joyful-celebration-37/
SUMMARY:Joyful Celebration
DESCRIPTION:Every Monday night from 5 – 7PM\n\nGreensburg Church of the B
 rethren welcomes all groups and individuals with disabilities to a “Joyf
 ul Celebration”.\n\nCome join us for a free night of fun and fellowship.
  Dinner is included. All participants must be accompanied by a family memb
 er or caregiver. Donations are accepted.
ATTACH;FMTTYPE=image/jpeg:https://gbgcob.org/wp-content/uploads/2022/07/Sc
 reen-Shot-2022-07-10-at-10.46.32-AM.png
CATEGORIES:Fund raiser
LOCATION:Greensburg Church of the Brethren\, 554 Stanton St\, Greensburg\, 
 PA\, 15601\, United States
X-APPLE-STRUCTURED-LOCATION;VALUE=URI;X-ADDRESS=554 Stanton St\, Greensburg
 \, PA\, 15601\, United States;X-APPLE-RADIUS=100;X-TITLE=Greensburg Church
  of the Brethren:geo:0,0
END:VEVENT
BEGIN:VTIMEZONE
TZID:America/New_York
X-LIC-LOCATION:America/New_York
BEGIN:DAYLIGHT
DTSTART:20230312T030000
TZOFFSETFROM:-0500
TZOFFSETTO:-0400
TZNAME:EDT
END:DAYLIGHT
END:VTIMEZONE
END:VCALENDAR