BEGIN:VCALENDAR
VERSION:2.0
PRODID:-//wp-events-plugin.com//7.2.3.1//EN
BEGIN:VEVENT
UID:198@gbgcob.org
DTSTART;TZID=America/New_York:20240825T093000
DTEND;TZID=America/New_York:20240825T100000
DTSTAMP:20240821T163933Z
URL:https://gbgcob.org/events/movie/
SUMMARY:Sunday School Movie
DESCRIPTION:Join us for Sunday School 9:30 am.  We are currently viewing T
 he Chosen\, Season 4.  There are 8 episodes in this season. All are welco
 me!
ATTACH;FMTTYPE=image/jpeg:https://gbgcob.org/wp-content/uploads/2024/07/Th
 eChosen_Season4_fathom-events_series-page.jpg
CATEGORIES:Series
END:VEVENT
BEGIN:VTIMEZONE
TZID:America/New_York
X-LIC-LOCATION:America/New_York
BEGIN:DAYLIGHT
DTSTART:20240310T030000
TZOFFSETFROM:-0500
TZOFFSETTO:-0400
TZNAME:EDT
END:DAYLIGHT
END:VTIMEZONE
END:VCALENDAR