BEGIN:VCALENDAR
VERSION:2.0
PRODID:-//wp-events-plugin.com//7.2.3.1//EN
BEGIN:VEVENT
UID:108@gbgcob.org
DTSTART;TZID=America/New_York:20231028T180000
DTEND;TZID=America/New_York:20231028T180000
DTSTAMP:20231012T153039Z
URL:https://gbgcob.org/events/revival-2023/
SUMMARY:Revival 2023
DESCRIPTION:Come join us for a night of glorifying God at our 2023 Revival.
  Our message is "Jesus Is Coming".\n\nSaturday\, October 28 at 6PM\n\nSpec
 ial Speaker\, Pastor Elba from Father's Heart Ministry and music by Countr
 y Gospel Singing Group.\n\nYou won't want to miss this revitalising event.
 \n\n554 Stanton Street\,  Greensburg\n\nFree to all who want to awaken th
 eir relationship with our God Almighty
ATTACH;FMTTYPE=image/jpeg:https://gbgcob.org/wp-content/uploads/2022/07/Ar
 ms.jpg
CATEGORIES:Annual Event
LOCATION:Greensburg Church of the Brethren\, 554 Stanton St\, Greensburg\, 
 PA\, 15601\, United States
X-APPLE-STRUCTURED-LOCATION;VALUE=URI;X-ADDRESS=554 Stanton St\, Greensburg
 \, PA\, 15601\, United States;X-APPLE-RADIUS=100;X-TITLE=Greensburg Church
  of the Brethren:geo:0,0
END:VEVENT
BEGIN:VTIMEZONE
TZID:America/New_York
X-LIC-LOCATION:America/New_York
BEGIN:DAYLIGHT
DTSTART:20230312T030000
TZOFFSETFROM:-0500
TZOFFSETTO:-0400
TZNAME:EDT
END:DAYLIGHT
END:VTIMEZONE
END:VCALENDAR