BEGIN:VCALENDAR
VERSION:2.0
PRODID:-//wp-events-plugin.com//7.2.3.1//EN
BEGIN:VEVENT
UID:202@gbgcob.org
DTSTART;TZID=America/New_York:20241019T190000
DTEND;TZID=America/New_York:20241019T190000
DTSTAMP:20240917T183312Z
URL:https://gbgcob.org/events/revival-2024/
SUMMARY:Revival 2024
DESCRIPTION:A Night of Glorifying God
ATTACH;FMTTYPE=image/jpeg:https://gbgcob.org/wp-content/uploads/2024/09/Re
 vival-2024.jpg
CATEGORIES:Annual Event
LOCATION:Greensburg Church of the Brethren\, 554 Stanton St\, Greensburg\, 
 PA\, 15601\, United States
X-APPLE-STRUCTURED-LOCATION;VALUE=URI;X-ADDRESS=554 Stanton St\, Greensburg
 \, PA\, 15601\, United States;X-APPLE-RADIUS=100;X-TITLE=Greensburg Church
  of the Brethren:geo:0,0
END:VEVENT
BEGIN:VTIMEZONE
TZID:America/New_York
X-LIC-LOCATION:America/New_York
BEGIN:DAYLIGHT
DTSTART:20240310T030000
TZOFFSETFROM:-0500
TZOFFSETTO:-0400
TZNAME:EDT
END:DAYLIGHT
END:VTIMEZONE
END:VCALENDAR