BEGIN:VCALENDAR
VERSION:2.0
PRODID:-//wp-events-plugin.com//7.2.3.1//EN
BEGIN:VEVENT
UID:271@gbgcob.org
DTSTART;TZID=America/New_York:20251108T170000
DTEND;TZID=America/New_York:20251108T190000
DTSTAMP:20250911T153625Z
URL:https://gbgcob.org/events/revival-2025/
SUMMARY:Revival 2025
DESCRIPTION:Join us for a night of glorifying God with prayer\, worship and
  fellowship.
ATTACH;FMTTYPE=image/jpeg:https://gbgcob.org/wp-content/uploads/2025/09/Re
 vival-2025.jpg
CATEGORIES:Annual Event
END:VEVENT
BEGIN:VTIMEZONE
TZID:America/New_York
X-LIC-LOCATION:America/New_York
BEGIN:STANDARD
DTSTART:20251102T010000
TZOFFSETFROM:-0400
TZOFFSETTO:-0500
TZNAME:EST
END:STANDARD
END:VTIMEZONE
END:VCALENDAR