BEGIN:VCALENDAR
VERSION:2.0
PRODID:-//wp-events-plugin.com//7.2.3.1//EN
BEGIN:VEVENT
UID:74@gbgcob.org
DTSTART;TZID=America/New_York:20230802T183000
DTEND;TZID=America/New_York:20230802T193000
DTSTAMP:20230515T162202Z
URL:https://gbgcob.org/events/service-on-the-lawn-10/
SUMMARY:Service on the Lawn
DESCRIPTION:Join us every Wednesday throughout the summer  at 6:30 PM on t
 he church lawn for worship\, a message and fellowship
ATTACH;FMTTYPE=image/jpeg:https://gbgcob.org/wp-content/uploads/2023/05/Ch
 urch-Outside.jpg
CATEGORIES:Outdoor Event
END:VEVENT
BEGIN:VTIMEZONE
TZID:America/New_York
X-LIC-LOCATION:America/New_York
BEGIN:DAYLIGHT
DTSTART:20230312T030000
TZOFFSETFROM:-0500
TZOFFSETTO:-0400
TZNAME:EDT
END:DAYLIGHT
END:VTIMEZONE
END:VCALENDAR