BEGIN:VCALENDAR
VERSION:2.0
PRODID:-//wp-events-plugin.com//7.2.3.1//EN
BEGIN:VEVENT
UID:264@gbgcob.org
DTSTART;TZID=America/New_York:20250730T190000
DTEND;TZID=America/New_York:20250730T193000
DTSTAMP:20250605T173819Z
URL:https://gbgcob.org/events/service-on-the-lawn-33/
SUMMARY:Service On the Lawn
DESCRIPTION:
ATTACH;FMTTYPE=image/jpeg:https://gbgcob.org/wp-content/uploads/2022/08/IM
 G_6393.jpg
CATEGORIES:Outdoor Event
LOCATION:Greensburg Church of the Brethren\, 554 Stanton St\, Greensburg\, 
 PA\, 15601\, United States
X-APPLE-STRUCTURED-LOCATION;VALUE=URI;X-ADDRESS=554 Stanton St\, Greensburg
 \, PA\, 15601\, United States;X-APPLE-RADIUS=100;X-TITLE=Greensburg Church
  of the Brethren:geo:0,0
END:VEVENT
BEGIN:VTIMEZONE
TZID:America/New_York
X-LIC-LOCATION:America/New_York
BEGIN:DAYLIGHT
DTSTART:20250309T030000
TZOFFSETFROM:-0500
TZOFFSETTO:-0400
TZNAME:EDT
END:DAYLIGHT
END:VTIMEZONE
END:VCALENDAR