BEGIN:VCALENDAR
VERSION:2.0
PRODID:-//wp-events-plugin.com//7.2.3.1//EN
BEGIN:VEVENT
UID:169@gbgcob.org
DTSTART;TZID=America/New_York:20240309T090000
DTEND;TZID=America/New_York:20240309T130000
DTSTAMP:20240109T230706Z
URL:https://gbgcob.org/events/soup-and-sandwich-sale-3/
SUMMARY:Soup and Sandwich Sale
DESCRIPTION:It's still soup weather so come and get a delicious quart of so
 up for only $7 and support the Disciple's Hands Ministry.  Hot Sausage Sa
 ndwiches will also be available for $6.\n\nAll proceeds go to feeding the 
 hungry in are area.
CATEGORIES:Fund raiser
END:VEVENT
BEGIN:VTIMEZONE
TZID:America/New_York
X-LIC-LOCATION:America/New_York
BEGIN:STANDARD
DTSTART:20231105T010000
TZOFFSETFROM:-0400
TZOFFSETTO:-0500
TZNAME:EST
END:STANDARD
END:VTIMEZONE
END:VCALENDAR