BEGIN:VCALENDAR
VERSION:2.0
PRODID:-//wp-events-plugin.com//7.2.3.1//EN
BEGIN:VEVENT
UID:170@gbgcob.org
DTSTART;TZID=America/New_York:20240413T090000
DTEND;TZID=America/New_York:20240413T130000
DTSTAMP:20240109T231510Z
URL:https://gbgcob.org/events/soup-and-sandwich-sale-4/
SUMMARY:Soup and Sandwich Sale
DESCRIPTION:This is the next to the last Soup Sale of 2024 so don't miss ou
 t. Wide variety of soups for only $7 a quart and Hot Sausage Sandwiches fo
 r only $6.\n\nAll proceeds go to feeding the hungry in are area.
CATEGORIES:Fund raiser
END:VEVENT
BEGIN:VTIMEZONE
TZID:America/New_York
X-LIC-LOCATION:America/New_York
BEGIN:DAYLIGHT
DTSTART:20240310T030000
TZOFFSETFROM:-0500
TZOFFSETTO:-0400
TZNAME:EDT
END:DAYLIGHT
END:VTIMEZONE
END:VCALENDAR