BEGIN:VCALENDAR
VERSION:2.0
PRODID:-//wp-events-plugin.com//7.2.3.1//EN
BEGIN:VEVENT
UID:46@gbgcob.org
DTSTART;TZID=America/New_York:20230204T090000
DTEND;TZID=America/New_York:20230204T130000
DTSTAMP:20221205T164340Z
URL:https://gbgcob.org/events/soup-n-sandwich-sale-2/
SUMMARY:SOUP N SANDWICH SALE
DESCRIPTION:Disciples' Hands Ministry is having a Soup n Sandwich Sale on S
 aturday\, February 4th from 9AM - 1PM at the Greensburg Church of the Bret
 hren located at 554 Stanton St. Greensburg.\n\nA wide variety of soups wil
 l be available for $7 a quart along with Hot Sausage Sandwiches for $6 eac
 h.  All proceeds go to feeding the hungry in our area.
ATTACH;FMTTYPE=image/jpeg:https://gbgcob.org/wp-content/uploads/2022/12/Fe
 braury-Soup-Sale2-4-23.jpeg
CATEGORIES:Fund raiser
END:VEVENT
BEGIN:VTIMEZONE
TZID:America/New_York
X-LIC-LOCATION:America/New_York
BEGIN:STANDARD
DTSTART:20221106T010000
TZOFFSETFROM:-0400
TZOFFSETTO:-0500
TZNAME:EST
END:STANDARD
END:VTIMEZONE
END:VCALENDAR