BEGIN:VCALENDAR
VERSION:2.0
PRODID:-//wp-events-plugin.com//7.2.3.1//EN
BEGIN:VEVENT
UID:109@gbgcob.org
DTSTART;TZID=America/New_York:20231118T090000
DTEND;TZID=America/New_York:20231118T130000
DTSTAMP:20231109T174615Z
URL:https://gbgcob.org/events/soup-n-sandwich-sale-3/
SUMMARY:Soup N Sandwich Sale
DESCRIPTION:Come support The Disciples' Hands Ministry and go home with a q
 uart of delicious soup for $7.  A wide variety of soups will be available
 .  Hot Sausage Sandwiches\, Hot Dogs and Hamburgers will be there for the
  purchase as well.\n\nAll proceeds go to feeding the hungry in our area.
ATTACH;FMTTYPE=image/jpeg:https://gbgcob.org/wp-content/uploads/2023/11/So
 up-Sale-Pic.jpg
CATEGORIES:Fund raiser
END:VEVENT
BEGIN:VTIMEZONE
TZID:America/New_York
X-LIC-LOCATION:America/New_York
BEGIN:STANDARD
DTSTART:20231105T010000
TZOFFSETFROM:-0400
TZOFFSETTO:-0500
TZNAME:EST
END:STANDARD
END:VTIMEZONE
END:VCALENDAR