BEGIN:VCALENDAR
VERSION:2.0
PRODID:-//wp-events-plugin.com//7.2.3.1//EN
BEGIN:VEVENT
UID:58@gbgcob.org
DTSTART;TZID=America/New_York:20230415T090000
DTEND;TZID=America/New_York:20230415T130000
DTSTAMP:20230403T170922Z
URL:https://gbgcob.org/events/soup-sale-2/
SUMMARY:Soup Sale
DESCRIPTION:Soup/Sandwich Sale\n\nSaturday\, April 15\, 2023 9AM - 1PM\n\nA
  wide variety of soups will be available along with Hot Sausage Sandwiches
 .\n\nQuart of Soup $7 - Sandwich $6\n\nAll proceeds go to feeding the hung
 ry in our surrounding area\n\n&nbsp\;\n\n&nbsp\;\n\n&nbsp\;
ATTACH;FMTTYPE=image/jpeg:https://gbgcob.org/wp-content/uploads/2023/04/So
 up-Sale.jpg
CATEGORIES:Fund raiser
END:VEVENT
BEGIN:VTIMEZONE
TZID:America/New_York
X-LIC-LOCATION:America/New_York
BEGIN:DAYLIGHT
DTSTART:20230312T030000
TZOFFSETFROM:-0500
TZOFFSETTO:-0400
TZNAME:EDT
END:DAYLIGHT
END:VTIMEZONE
END:VCALENDAR