BEGIN:VCALENDAR
VERSION:2.0
PRODID:-//wp-events-plugin.com//7.2.3.1//EN
BEGIN:VEVENT
UID:250@gbgcob.org
DTSTART;TZID=America/New_York:20250125T090000
DTEND;TZID=America/New_York:20250125T140000
DTSTAMP:20250119T171223Z
URL:https://gbgcob.org/events/soup-sale-3/
SUMMARY:Soup Sale
DESCRIPTION:Th Disciples' Hands Soup Sale 9am - 2pm\n\nWide variety of soup
 s to choose from at $7 a quart\n\nAll proceeds go to helping people in our
  community and surrounding area
ATTACH;FMTTYPE=image/jpeg:https://gbgcob.org/wp-content/uploads/2025/01/So
 up-Sale-1-25-2025.jpeg
CATEGORIES:Fund raiser
END:VEVENT
BEGIN:VTIMEZONE
TZID:America/New_York
X-LIC-LOCATION:America/New_York
BEGIN:STANDARD
DTSTART:20241103T010000
TZOFFSETFROM:-0400
TZOFFSETTO:-0500
TZNAME:EST
END:STANDARD
END:VTIMEZONE
END:VCALENDAR