BEGIN:VCALENDAR
VERSION:2.0
PRODID:-//wp-events-plugin.com//7.2.3.1//EN
BEGIN:VEVENT
UID:251@gbgcob.org
DTSTART;TZID=America/New_York:20250222T090000
DTEND;TZID=America/New_York:20250222T120000
DTSTAMP:20250205T235724Z
URL:https://gbgcob.org/events/soup-sale-4/
SUMMARY:Soup Sale
DESCRIPTION:Soup's On Again! Saturday\, February 22 from 9am - Noon.  $7 a
  quart.  Wide variety.  All proceeds go to helping people in our communi
 ty.
ATTACH;FMTTYPE=image/jpeg:https://gbgcob.org/wp-content/uploads/2025/02/2-
 22-2025-Soup-Sale.jpg
CATEGORIES:Fund raiser
END:VEVENT
BEGIN:VTIMEZONE
TZID:America/New_York
X-LIC-LOCATION:America/New_York
BEGIN:STANDARD
DTSTART:20241103T010000
TZOFFSETFROM:-0400
TZOFFSETTO:-0500
TZNAME:EST
END:STANDARD
END:VTIMEZONE
END:VCALENDAR