BEGIN:VCALENDAR
VERSION:2.0
PRODID:-//wp-events-plugin.com//7.2.3.1//EN
BEGIN:VEVENT
UID:252@gbgcob.org
DTSTART;TZID=America/New_York:20250322T090000
DTEND;TZID=America/New_York:20250322T130000
DTSTAMP:20250224T185046Z
URL:https://gbgcob.org/events/soup-sale-5/
SUMMARY:Soup Sale
DESCRIPTION:Come support the Disciples' Hands Ministry and go home with som
 e delicious soup. Wide variety available for $7 a quart.  Sandwiches will
  be available for purchase as well.  All proceeds go to help people in ne
 ed in our local area.
ATTACH;FMTTYPE=image/jpeg:https://gbgcob.org/wp-content/uploads/2025/02/Ma
 rch-Soup-Sale.jpeg
CATEGORIES:Fund raiser
END:VEVENT
BEGIN:VTIMEZONE
TZID:America/New_York
X-LIC-LOCATION:America/New_York
BEGIN:DAYLIGHT
DTSTART:20250309T030000
TZOFFSETFROM:-0500
TZOFFSETTO:-0400
TZNAME:EDT
END:DAYLIGHT
END:VTIMEZONE
END:VCALENDAR