BEGIN:VCALENDAR
VERSION:2.0
PRODID:-//wp-events-plugin.com//7.2.3.1//EN
BEGIN:VEVENT
UID:253@gbgcob.org
DTSTART;TZID=America/New_York:20250412T090000
DTEND;TZID=America/New_York:20250412T120000
DTSTAMP:20250410T165056Z
URL:https://gbgcob.org/events/soup-sale-6/
SUMMARY:Soup Sale
DESCRIPTION:Last Soup Sale til Fall.  Come get a quart for $7.  Wide vari
 ety to choose from. Sandwiches will be available for purchase as well.  C
 ome early because we run out fast.  All proceeds help the Disciples' Hand
 s Ministry help people in our local community.
ATTACH;FMTTYPE=image/jpeg:https://gbgcob.org/wp-content/uploads/2025/03/Ap
 ril-Soup-Sale.jpeg
CATEGORIES:Fund raiser
END:VEVENT
BEGIN:VTIMEZONE
TZID:America/New_York
X-LIC-LOCATION:America/New_York
BEGIN:DAYLIGHT
DTSTART:20250309T030000
TZOFFSETFROM:-0500
TZOFFSETTO:-0400
TZNAME:EDT
END:DAYLIGHT
END:VTIMEZONE
END:VCALENDAR