BEGIN:VCALENDAR
VERSION:2.0
PRODID:-//wp-events-plugin.com//7.2.3.1//EN
BEGIN:VEVENT
UID:272@gbgcob.org
DTSTART;TZID=America/New_York:20251018T090000
DTEND;TZID=America/New_York:20251018T120000
DTSTAMP:20250929T173816Z
URL:https://gbgcob.org/events/soup-sale-7/
SUMMARY:Soup Sale
DESCRIPTION:Soup Sale\nSaturday\,October 18\, 2025\n9am til soup is gone\n\
 nGreensburg Church of the Brethren\n554 Stanton St. Greensburg\n724-834-21
 30\nAll proceeds go to helping people in need in or local area
ATTACH;FMTTYPE=image/jpeg:https://gbgcob.org/wp-content/uploads/2025/09/Oc
 tober-Soup-Sale-Update.jpg
CATEGORIES:Fund raiser
LOCATION:Greensburg Church of the Brethren\, 554 Stanton Street\, Greensbur
 g\, PA\, 15601\, United States
X-APPLE-STRUCTURED-LOCATION;VALUE=URI;X-ADDRESS=554 Stanton Street\, Greens
 burg\, PA\, 15601\, United States;X-APPLE-RADIUS=100;X-TITLE=Greensburg Ch
 urch of the Brethren:geo:0,0
END:VEVENT
BEGIN:VTIMEZONE
TZID:America/New_York
X-LIC-LOCATION:America/New_York
BEGIN:DAYLIGHT
DTSTART:20250309T030000
TZOFFSETFROM:-0500
TZOFFSETTO:-0400
TZNAME:EDT
END:DAYLIGHT
END:VTIMEZONE
END:VCALENDAR