BEGIN:VCALENDAR
VERSION:2.0
PRODID:-//wp-events-plugin.com//7.2.3.1//EN
BEGIN:VEVENT
UID:276@gbgcob.org
DTSTART;TZID=America/New_York:20260221T090000
DTEND;TZID=America/New_York:20260221T120000
DTSTAMP:20260105T184321Z
URL:https://gbgcob.org/events/soup-sale-9/
SUMMARY:Soup Sale
DESCRIPTION:The Disciples' Hands  Ministry is having a Soup Sale on Saturd
 ay\, February 21\, from 9AM til all the soup is gone. A large variety of s
 oups for $8 a qt.  There will be Hempfield Band Subs available for purcha
 se as well. First come\, first served.  All proceeds go to helping people
  in need in our area.\n\nGreensburg Church of the Brethren\n\n554 Stanton 
 Street\, Greensburg
ATTACH;FMTTYPE=image/jpeg:https://gbgcob.org/wp-content/uploads/2026/01/Fe
 b.-2026-Soup-Sale.jpeg
CATEGORIES:Fund raiser
LOCATION:Greensburg Church of the Brethren\, 554 Stanton St\, Greensburg\, 
 PA\, 15601\, United States
X-APPLE-STRUCTURED-LOCATION;VALUE=URI;X-ADDRESS=554 Stanton St\, Greensburg
 \, PA\, 15601\, United States;X-APPLE-RADIUS=100;X-TITLE=Greensburg Church
  of the Brethren:geo:0,0
END:VEVENT
BEGIN:VTIMEZONE
TZID:America/New_York
X-LIC-LOCATION:America/New_York
BEGIN:STANDARD
DTSTART:20251102T010000
TZOFFSETFROM:-0400
TZOFFSETTO:-0500
TZNAME:EST
END:STANDARD
END:VTIMEZONE
END:VCALENDAR