BEGIN:VCALENDAR
VERSION:2.0
PRODID:-//wp-events-plugin.com//7.2.3.1//EN
BEGIN:VEVENT
UID:273@gbgcob.org
DTSTART;TZID=America/New_York:20251115T090000
DTEND;TZID=America/New_York:20251115T120000
DTSTAMP:20251106T162114Z
URL:https://gbgcob.org/events/soup-sale-and-subs/
SUMMARY:Soup Sale (and Subs)
DESCRIPTION:Soup Sale $8 quart. Wide variety to choose from. Subs available
  for purchase.  All proceeds go towards helping people in our local commu
 nity. Come early we run out quickly.
ATTACH;FMTTYPE=image/jpeg:https://gbgcob.org/wp-content/uploads/2025/11/Su
 bSoup-Sale-November-2025.jpg
CATEGORIES:Fund raiser
END:VEVENT
BEGIN:VTIMEZONE
TZID:America/New_York
X-LIC-LOCATION:America/New_York
BEGIN:STANDARD
DTSTART:20251102T010000
TZOFFSETFROM:-0400
TZOFFSETTO:-0500
TZNAME:EST
END:STANDARD
END:VTIMEZONE
END:VCALENDAR