BEGIN:VCALENDAR
VERSION:2.0
PRODID:-//wp-events-plugin.com//7.2.3.1//EN
BEGIN:VEVENT
UID:57@gbgcob.org
DTSTART;TZID=America/New_York:20230318T120000
DTEND;TZID=America/New_York:20230318T170000
DTSTAMP:20230223T152231Z
URL:https://gbgcob.org/events/spaghetti-dinner-fundraiser-2/
SUMMARY:Spaghetti Dinner Fundraiser
DESCRIPTION:Raise a fork for a good cause!  Spaghetti Dinner Fundraiser Sa
 turday\, March 18 from 12 - 5PM. Enjoy spaghetti\, salad\, garlic bread\, 
 beverage and dessert to help raise money for our program to feed the hungr
 y.  $9 per person. Eat in or take out.  Greensburg Church of the Brethre
 n 554 Stanton Street\, Greensburg.
ATTACH;FMTTYPE=image/jpeg:https://gbgcob.org/wp-content/uploads/2023/02/Sp
 aghetti-Fundraiser.jpg
CATEGORIES:Fund raiser
END:VEVENT
BEGIN:VTIMEZONE
TZID:America/New_York
X-LIC-LOCATION:America/New_York
BEGIN:DAYLIGHT
DTSTART:20230312T030000
TZOFFSETFROM:-0500
TZOFFSETTO:-0400
TZNAME:EDT
END:DAYLIGHT
END:VTIMEZONE
END:VCALENDAR