BEGIN:VCALENDAR
VERSION:2.0
PRODID:-//wp-events-plugin.com//7.2.3.1//EN
BEGIN:VEVENT
UID:107@gbgcob.org
DTSTART;TZID=America/New_York:20231021T120000
DTEND;TZID=America/New_York:20231021T170000
DTSTAMP:20230928T160022Z
URL:https://gbgcob.org/events/spaghetti-dinner-fundraiser-3/
SUMMARY:Spaghetti Dinner Fundraiser
DESCRIPTION:Disciples' Hands Presents the 4th Annual\n\nSpaghetti Dinner Fu
 ndraiser\n\nSaturday\, October 21\, 2023 12PM - 5PM\n\nGreensburg Church o
 f the Brethren\n\n554 Stanton St. Greensburg\, PA 15601\n\nEnjoy spaghetti
 \, salad\, cake and beverage for only $10  Dine in or Take Out\n\nAll pro
 ceeds benefit the hungry in our area
ATTACH;FMTTYPE=image/jpeg:https://gbgcob.org/wp-content/uploads/2023/09/Sp
 aghetti-Dinner-10-21.jpg
CATEGORIES:Fund raiser
LOCATION:Greensburg Church of the Brethren\, 554 Stanton St\, Greensburg\, 
 PA\, 15601\, United States
X-APPLE-STRUCTURED-LOCATION;VALUE=URI;X-ADDRESS=554 Stanton St\, Greensburg
 \, PA\, 15601\, United States;X-APPLE-RADIUS=100;X-TITLE=Greensburg Church
  of the Brethren:geo:0,0
END:VEVENT
BEGIN:VTIMEZONE
TZID:America/New_York
X-LIC-LOCATION:America/New_York
BEGIN:DAYLIGHT
DTSTART:20230312T030000
TZOFFSETFROM:-0500
TZOFFSETTO:-0400
TZNAME:EDT
END:DAYLIGHT
END:VTIMEZONE
END:VCALENDAR