BEGIN:VCALENDAR
VERSION:2.0
PRODID:-//wp-events-plugin.com//7.2.3.1//EN
BEGIN:VEVENT
UID:173@gbgcob.org
DTSTART;TZID=America/New_York:20240617T090000
DTEND;TZID=America/New_York:20240621T120000
DTSTAMP:20240613T003731Z
URL:https://gbgcob.org/events/vacation-bible-school-2/
SUMMARY:Vacation Bible School
DESCRIPTION:Join us June 17 - 21 from 9am to noon for VBS. This year's them
 e is Scuba - Diving Into Friendship with God. Class\, Crafts\, Food\, Musi
 c\, Games\, Prizes and Fellowship.   Click here for a registration form.
  You can scan it and email it to gbgcob@gmail.com\, or mail to 554 Stanton
  Street\, Greensburg PA 15601.
ATTACH;FMTTYPE=image/jpeg:https://gbgcob.org/wp-content/uploads/2024/04/VB
 S-Scuba.jpg
CATEGORIES:Annual Event
END:VEVENT
BEGIN:VTIMEZONE
TZID:America/New_York
X-LIC-LOCATION:America/New_York
BEGIN:DAYLIGHT
DTSTART:20240310T030000
TZOFFSETFROM:-0500
TZOFFSETTO:-0400
TZNAME:EDT
END:DAYLIGHT
END:VTIMEZONE
END:VCALENDAR