BEGIN:VCALENDAR
VERSION:2.0
PRODID:-//wp-events-plugin.com//7.2.3.1//EN
BEGIN:VEVENT
UID:91@gbgcob.org
DTSTART;TZID=America/New_York:20230619T090000
DTEND;TZID=America/New_York:20230623T120000
DTSTAMP:20230518T132833Z
URL:https://gbgcob.org/events/vacation-bible-school/
SUMMARY:Vacation Bible School
DESCRIPTION:VBS - Keepers of The Kingdom\n\nStanding strong in today's batt
 le of truth\n\nJune 19 - 23\, 9 Am - Noon\n\n&nbsp\;\n\nPREPARING CHILDREN
  TO SURVIVE IN TODAY’S WORLD\n\nWe are engaged in an epic battle for the
  hearts and minds of our youth. Every day\, they’re bombarded with lies 
 about who they are\, who their Creator is\, and where their salvation come
 s from. Thankfully\, God has given his children armor to wear in this batt
 le between truth and lies\, light and darkness\, good and evil.\n\nWith th
 is VBS\, your kids will learn how they can be part of God’s kingdom thro
 ugh salvation in his Son and will be equipped with the armor of God to bec
 ome Keepers of the Kingdom and stand strong in today’s battle for truth.
 \n\n&nbsp\;\n\nRegister with the link below - You can print the form and m
 ail it to Greensburg Church of the Brethren - 554 Stanton Street - Greensb
 urg\, PA 15601 or email it to pastorstephengbgcob@gmail.com\n\nhttps://gbg
 cob.org/wp-admin/upload.php?item=7111
ATTACH;FMTTYPE=image/jpeg:https://gbgcob.org/wp-content/uploads/2023/05/VB
 S-Image.png
CATEGORIES:Series
END:VEVENT
BEGIN:VTIMEZONE
TZID:America/New_York
X-LIC-LOCATION:America/New_York
BEGIN:DAYLIGHT
DTSTART:20230312T030000
TZOFFSETFROM:-0500
TZOFFSETTO:-0400
TZNAME:EDT
END:DAYLIGHT
END:VTIMEZONE
END:VCALENDAR