BEGIN:VCALENDAR
VERSION:2.0
PRODID:-//wp-events-plugin.com//7.2.3.1//EN
BEGIN:VEVENT
UID:256@gbgcob.org
DTSTART;TZID=America/New_York:20250609T180000
DTEND;TZID=America/New_York:20250613T200000
DTSTAMP:20250605T172544Z
URL:https://gbgcob.org/events/vbs-2025-wonder-junction/
SUMMARY:Vacation Bible School
DESCRIPTION:Registration Form
ATTACH;FMTTYPE=image/jpeg:https://gbgcob.org/wp-content/uploads/2025/05/Wo
 nder-Junction-Image.jpg
CATEGORIES:VBS
END:VEVENT
BEGIN:VTIMEZONE
TZID:America/New_York
X-LIC-LOCATION:America/New_York
BEGIN:DAYLIGHT
DTSTART:20250309T030000
TZOFFSETFROM:-0500
TZOFFSETTO:-0400
TZNAME:EDT
END:DAYLIGHT
END:VTIMEZONE
END:VCALENDAR