BEGIN:VCALENDAR
VERSION:2.0
PRODID:-//wp-events-plugin.com//7.2.3.1//EN
BEGIN:VEVENT
UID:334@gbgcob.org
DTSTART;TZID=America/New_York:20260610T180000
DTEND;TZID=America/New_York:20260610T200000
DTSTAMP:20260316T232924Z
URL:https://gbgcob.org/events/vbs-2026-3/
SUMMARY:VBS 2026
DESCRIPTION:Expedition Norway\n\n&nbsp\;
ATTACH;FMTTYPE=image/jpeg:https://gbgcob.org/wp-content/uploads/2026/03/VB
 S20226.jpg
CATEGORIES:VBS
LOCATION:Greensburg Church of the Brethren\, 554 Stanton St\, Greensburg\, 
 PA\, 15601\, United States
X-APPLE-STRUCTURED-LOCATION;VALUE=URI;X-ADDRESS=554 Stanton St\, Greensburg
 \, PA\, 15601\, United States;X-APPLE-RADIUS=100;X-TITLE=Greensburg Church
  of the Brethren:geo:0,0
END:VEVENT
BEGIN:VTIMEZONE
TZID:America/New_York
X-LIC-LOCATION:America/New_York
BEGIN:DAYLIGHT
DTSTART:20260308T030000
TZOFFSETFROM:-0500
TZOFFSETTO:-0400
TZNAME:EDT
END:DAYLIGHT
END:VTIMEZONE
END:VCALENDAR